BEGIN:VCALENDAR
VERSION:2.0
PRODID:-//Plone.org//NONSGML plone.app.event//EN
X-WR-TIMEZONE:Europe/Madrid
BEGIN:VEVENT
SUMMARY:Visita guiada al nucli d'Alella: Alella 1000 anys d'història + copa de vi DO Alella
DTSTART;TZID=Europe/Madrid;VALUE=DATE-TIME:20180707T183000
DTEND;TZID=Europe/Madrid;VALUE=DATE-TIME:20180707T193000
DTSTAMP;VALUE=DATE-TIME:20260426T023603Z
UID:168ad2a0797e01257a9f919ac373b36e
CREATED;VALUE=DATE-TIME:20180707T000000Z
CATEGORIES:
LOCATION:Oficina de Turisme - Riera Fosca 2. 08328 Alella
ORGANIZER:Ajuntament d'Alella
COMMENT:Durada: De 18.30 a 20.30h
URL:https://www.mynerva.net/ajalella/document.php?id=9567
END:VEVENT
END:VCALENDAR