BEGIN:VCALENDAR
VERSION:2.0
PRODID:-//Plone.org//NONSGML plone.app.event//EN
X-WR-TIMEZONE:Europe/Madrid
BEGIN:VEVENT
SUMMARY:Literatures amb sentits. Martí Sales i Sebastià Portell: a pèl
DTSTART;TZID=Europe/Madrid;VALUE=DATE-TIME:20180530T193000
DTEND;TZID=Europe/Madrid;VALUE=DATE-TIME:20180530T203000
DTSTAMP;VALUE=DATE-TIME:20260426T054334Z
UID:d35cf38a6bc3243b9c42bb219d3c5abd
CREATED;VALUE=DATE-TIME:20180530T000000Z
CATEGORIES:
LOCATION:Can Manyé. Espai d'art i creació - Riera Coma Fosca 42. 08328 Alella
ORGANIZER:Ajuntament d'Alella
URL:https://www.mynerva.net/ajalella/document.php?id=9568
END:VEVENT
END:VCALENDAR