BEGIN:VCALENDAR
VERSION:2.0
PRODID:-//Plone.org//NONSGML plone.app.event//EN
X-WR-TIMEZONE:Europe/Madrid
BEGIN:VEVENT
SUMMARY:Literatures amb sentits. Presentació dels dos primers títols de Vibop edicions
DTSTART;TZID=Europe/Madrid;VALUE=DATE-TIME:20180627T190000
DTEND;TZID=Europe/Madrid;VALUE=DATE-TIME:20180627T200000
DTSTAMP;VALUE=DATE-TIME:20260426T054439Z
UID:f7f52bc6deae49d23ab527ec5e26d387
CREATED;VALUE=DATE-TIME:20180627T000000Z
CATEGORIES:
LOCATION:Can Manyé. Espai d'art i creació - Riera Coma Fosca 42. 08328 Alella
ORGANIZER:Ajuntament d'Alella
URL:https://www.mynerva.net/ajalella/document.php?id=9569
END:VEVENT
END:VCALENDAR