BEGIN:VCALENDAR
VERSION:2.0
PRODID:-//Plone.org//NONSGML plone.app.event//EN
X-WR-TIMEZONE:Europe/Madrid
BEGIN:VEVENT
SUMMARY:Diada enosolidària. Un gest per l'ELA
DTSTART;TZID=Europe/Madrid;VALUE=DATE-TIME:20180616T220000
DTEND;TZID=Europe/Madrid;VALUE=DATE-TIME:20180616T230000
DTSTAMP;VALUE=DATE-TIME:20260426T054333Z
UID:71be71d256be6723b22f43fb10488e23
CREATED;VALUE=DATE-TIME:20180616T000000Z
CATEGORIES:
LOCATION:Plaça de l'Ajuntament - Plaça de l'Ajuntament, s/n. 08328 Alella
ORGANIZER:Consorci de Promoció Enoturística del Territori DO Alella
URL:https://www.mynerva.net/ajalella/document.php?id=9788
END:VEVENT
END:VCALENDAR